BEGIN:VCALENDAR
VERSION:2.0
PRODID:-//Oxford Colon Cancer Trust - ECPv6.15.12.2//NONSGML v1.0//EN
CALSCALE:GREGORIAN
METHOD:PUBLISH
X-WR-CALNAME:Oxford Colon Cancer Trust
X-ORIGINAL-URL:https://occtopus.org.uk
X-WR-CALDESC:Events for Oxford Colon Cancer Trust
REFRESH-INTERVAL;VALUE=DURATION:PT1H
X-Robots-Tag:noindex
X-PUBLISHED-TTL:PT1H
BEGIN:VTIMEZONE
TZID:Europe/London
BEGIN:DAYLIGHT
TZOFFSETFROM:+0000
TZOFFSETTO:+0100
TZNAME:BST
DTSTART:20200329T010000
END:DAYLIGHT
BEGIN:STANDARD
TZOFFSETFROM:+0100
TZOFFSETTO:+0000
TZNAME:GMT
DTSTART:20201025T010000
END:STANDARD
BEGIN:DAYLIGHT
TZOFFSETFROM:+0000
TZOFFSETTO:+0100
TZNAME:BST
DTSTART:20210328T010000
END:DAYLIGHT
BEGIN:STANDARD
TZOFFSETFROM:+0100
TZOFFSETTO:+0000
TZNAME:GMT
DTSTART:20211031T010000
END:STANDARD
BEGIN:DAYLIGHT
TZOFFSETFROM:+0000
TZOFFSETTO:+0100
TZNAME:BST
DTSTART:20220327T010000
END:DAYLIGHT
BEGIN:STANDARD
TZOFFSETFROM:+0100
TZOFFSETTO:+0000
TZNAME:GMT
DTSTART:20221030T010000
END:STANDARD
BEGIN:DAYLIGHT
TZOFFSETFROM:+0000
TZOFFSETTO:+0100
TZNAME:BST
DTSTART:20230326T010000
END:DAYLIGHT
BEGIN:STANDARD
TZOFFSETFROM:+0100
TZOFFSETTO:+0000
TZNAME:GMT
DTSTART:20231029T010000
END:STANDARD
BEGIN:DAYLIGHT
TZOFFSETFROM:+0000
TZOFFSETTO:+0100
TZNAME:BST
DTSTART:20240331T010000
END:DAYLIGHT
BEGIN:STANDARD
TZOFFSETFROM:+0100
TZOFFSETTO:+0000
TZNAME:GMT
DTSTART:20241027T010000
END:STANDARD
BEGIN:DAYLIGHT
TZOFFSETFROM:+0000
TZOFFSETTO:+0100
TZNAME:BST
DTSTART:20250330T010000
END:DAYLIGHT
BEGIN:STANDARD
TZOFFSETFROM:+0100
TZOFFSETTO:+0000
TZNAME:GMT
DTSTART:20251026T010000
END:STANDARD
BEGIN:DAYLIGHT
TZOFFSETFROM:+0000
TZOFFSETTO:+0100
TZNAME:BST
DTSTART:20260329T010000
END:DAYLIGHT
BEGIN:STANDARD
TZOFFSETFROM:+0100
TZOFFSETTO:+0000
TZNAME:GMT
DTSTART:20261025T010000
END:STANDARD
END:VTIMEZONE
BEGIN:VEVENT
DTSTART;TZID=Europe/London:20251012T080000
DTEND;TZID=Europe/London:20251012T170000
DTSTAMP:20260426T011443
CREATED:20240206T100733Z
LAST-MODIFIED:20250122T134313Z
UID:1397-1760256000-1760288400@occtopus.org.uk
SUMMARY:Oxford Marathon 12 October 2025
DESCRIPTION:Enjoy this fast and flat half marathon through the historic and prestigious university city of Oxford. Spurred on by live music and cheering crowds\, enjoy the beautiful 13.1 mile route through the incredible architecture and sights of Oxford and feel an incredible sense of achievement when crossing the finish line. Don’t miss out on being a part of the great atmosphere in our home town! \nSecure your earlybird place: Email liz.ashworth@occtopus.org.uk | Fundraising target: £150
URL:https://occtopus.org.uk/event/oxford-marathon/
LOCATION:Oxford Broad Street
END:VEVENT
BEGIN:VEVENT
DTSTART;VALUE=DATE:20250607
DTEND;VALUE=DATE:20250608
DTSTAMP:20260426T011443
CREATED:20240206T100617Z
LAST-MODIFIED:20250122T134447Z
UID:1395-1749254400-1749340799@occtopus.org.uk
SUMMARY:Blenheim Triathlon 7th - 8th June 2025
DESCRIPTION:Competitors and spectators are welcomed every year to the stunning surroundings of Blenheim Palace to take part in one of the most spectacular triathlons in Europe. \nThis iconic weekend of movement offers both beginner-friendly and advanced challenges and is a great day out for all the family – whether watching or taking part. A brilliant season opener\, it is also the world’s only triathlon located at a World Heritage Site. \nRegister here and set up your Occtopus Just Giving page here.
URL:https://occtopus.org.uk/event/blenheim-triathlon/
LOCATION:Blenheim Palace\, Blenheim Palace\, Woodstock\, Oxfordshire\, OX20 1PP
END:VEVENT
BEGIN:VEVENT
DTSTART;VALUE=DATE:20231015
DTEND;VALUE=DATE:20231016
DTSTAMP:20260426T011443
CREATED:20230214T125305Z
LAST-MODIFIED:20230619T114421Z
UID:871-1697328000-1697414399@occtopus.org.uk
SUMMARY:Oxford Half Marathon
DESCRIPTION:Want to run the Oxford Half for Occtopus? \n \nThe Oxford Half returns on Sunday 15 October 2023\, with a beautiful route of 13.1 miles throughout the University Parks and historical Oxford City Centre. \nWe have reduced priced spaces available\, so if you would like to run the Oxford Half for charity then please do email liz.ashworth@occtopus.org.uk. \nIf you already have a space and would like to fundraise for us\, please add our Oxford Half Just Giving page to your fundraising: \nhttps://www.justgiving.com/fundraising-page/creation/?cid=188456&eid=7897461&utm_source=website_cid188456_eid7897461&utm_medium=eventlinking&utm_campaign=eventlinkingurl \nIf you would like a training plan for running a half marathon\, do look at our training programme here. \nGood luck to everyone training for the run!
URL:https://occtopus.org.uk/event/oxford-half-2/
LOCATION:Oxford Broad Street
END:VEVENT
BEGIN:VEVENT
DTSTART;VALUE=DATE:20221016
DTEND;VALUE=DATE:20221017
DTSTAMP:20260426T011443
CREATED:20220708T115228Z
LAST-MODIFIED:20220708T115228Z
UID:840-1665878400-1665964799@occtopus.org.uk
SUMMARY:Oxford Half
DESCRIPTION:13.1 Miles of running through the dreaming spires of Oxford and University Parks.  Live entertainment at every mile to keep you motivated!
URL:https://occtopus.org.uk/event/oxford-half/
LOCATION:Oxford Broad Street
END:VEVENT
BEGIN:VEVENT
DTSTART;TZID=Europe/London:20221008T100000
DTEND;TZID=Europe/London:20221008T160000
DTSTAMP:20260426T011443
CREATED:20220810T090851Z
LAST-MODIFIED:20220810T090851Z
UID:843-1665223200-1665244800@occtopus.org.uk
SUMMARY:Kangaroo Club Information Day
DESCRIPTION:The Kangaroo Club – a UK registered charity\, which aims to help and support anyone with an ileo-anal pouch or a Koch pouch and their families – are holding their 2022 Information Day on Saturday 8th October at Jury’s Inn\, Oxford.  \nThe theme of the day will be pouch longevity and all are welcome – those with pouches (well behaved or not)\, those considering pouch surgery\, all supporters…  The event is free (although if you can afford it a donation of £10 per person in your party would be gratefully received). \nPlease let the Kangaroo Club know that you and whoever else you would like to bring\, would like to attend by e-mailing info@kangarooclub.org.uk. \nFor more information and updates about the programme being planned for the day please see: https://www.kangarooclub.org.uk/?page_id=1139
URL:https://occtopus.org.uk/event/kangaroo-club-information-day/
LOCATION:Jury’s Inn\, Godstow Road\, Oxford\, Oxfordshire\, 8AL OX2\, United Kingdom
END:VEVENT
BEGIN:VEVENT
DTSTART;VALUE=DATE:20220528
DTEND;VALUE=DATE:20220530
DTSTAMP:20260426T011443
CREATED:20211215T110137Z
LAST-MODIFIED:20211215T110234Z
UID:795-1653696000-1653868799@occtopus.org.uk
SUMMARY:Blenheim Palace Triathlon
DESCRIPTION:The Blenheim Palace Triathlon\, widely regarded as UK’s most stunning triathlon\, combines a world class event experience\, with beautiful scenery and a family day out. \nSet in the beautiful private grounds of Blenheim Palace\, this is one of the country’s most iconic races and definitely one everyone should tick off their list! Each year\, it welcomes over 7\,000 participants of all ages and abilities to swim\, bike and run around this spectacular route.  Multiple entry options available from relay\, sprint or a whole weekend!
URL:https://occtopus.org.uk/event/blenheim-palace-triathlon/
LOCATION:Blenheim Palace\, Blenheim Palace\, Woodstock\, Oxfordshire\, OX20 1PP
END:VEVENT
BEGIN:VEVENT
DTSTART;VALUE=DATE:20220201
DTEND;VALUE=DATE:20220301
DTSTAMP:20260426T011443
CREATED:20220112T083723Z
LAST-MODIFIED:20220112T083723Z
UID:809-1643673600-1646092799@occtopus.org.uk
SUMMARY:February Fitness Challenge
DESCRIPTION:Join the OCCTOPUS 10\,000 Steps Challenge and complete 10\,000 steps every day throughout February and raise money for Occtopus. Not only will you reap the health benefits\, you’ll also be supporting vital research into Colorectal Cancer\, Crohn’s\, Colitis & Continence. \n  \nFind out more and become a fundraiser on our JustGiving campaign: \nFebruary Fitness Challenge – JustGiving
URL:https://occtopus.org.uk/event/february-fitness-challenge/
LOCATION:Virtual event
END:VEVENT
BEGIN:VEVENT
DTSTART;VALUE=DATE:20211017
DTEND;VALUE=DATE:20211018
DTSTAMP:20260426T011443
CREATED:20210519T124236Z
LAST-MODIFIED:20210519T125808Z
UID:728-1634428800-1634515199@occtopus.org.uk
SUMMARY:Oxford Half Marathon
DESCRIPTION:The 2021 Oxford Half will take place on Sunday 17 October 2021. Run through the historic\, winding streets of Oxford to the sound of live entertainment.
URL:https://occtopus.org.uk/event/oxford-half-marathon/
LOCATION:Oxford Broad Street
ATTACH;FMTTYPE=image/jpeg:https://occtopus.org.uk/wp-content/uploads/2021/05/OxfordHalf2019_002-1.jpeg
END:VEVENT
BEGIN:VEVENT
DTSTART;VALUE=DATE:20211003
DTEND;VALUE=DATE:20211004
DTSTAMP:20260426T011443
CREATED:20210505T113957Z
LAST-MODIFIED:20210519T125408Z
UID:688-1633219200-1633305599@occtopus.org.uk
SUMMARY:Virgin Money London Marathon
DESCRIPTION:On Sunday 3 October 2021\, 50\,000 runners will have the chance to be a part of the biggest marathon ever staged anywhere in the world. \nThe virtual Virgin Money London Marathon will return this year\, giving participants the opportunity to take on the world’s greatest marathon on the course of their choice from 00:00:00 to 23:59:59BST\, wherever they are on the planet. \nRunners in the virtual event will join a record 50\,000 participants who will run the traditional Virgin Money London Marathon from Blackheath to The Mall.
URL:https://occtopus.org.uk/event/virgin-money-london-marathon/
LOCATION:London Marathon\, Blackheath\, London\, SE3 7AR\, United Kingdom
ATTACH;FMTTYPE=image/jpeg:https://occtopus.org.uk/wp-content/uploads/2021/05/40-Years-of-the-London-Marathon-The40thRace-1.jpeg
END:VEVENT
BEGIN:VEVENT
DTSTART;VALUE=DATE:20210911
DTEND;VALUE=DATE:20210913
DTSTAMP:20260426T011443
CREATED:20210505T112530Z
LAST-MODIFIED:20210519T125454Z
UID:678-1631318400-1631491199@occtopus.org.uk
SUMMARY:Blenheim Palace Triathlon
DESCRIPTION:The Blenheim Palace Triathlon\, widely regarded as UK’s most stunning triathlon\, combines a world class event experience\, with beautiful scenery and a family day out. \nSet in the beautiful private grounds of Blenheim Palace\, this is one of the country’s most iconic races and definitely one everyone should tick off their list! Each year\, it welcomes over 7\,000 participants of all ages and abilities to swim\, bike and run around this spectacular route. 
URL:https://occtopus.org.uk/event/blenheimpalacetri/
LOCATION:Blenheim Palace\, Blenheim Palace\, Woodstock\, Oxfordshire\, OX20 1PP
ATTACH;FMTTYPE=image/jpeg:https://occtopus.org.uk/wp-content/uploads/2021/05/Blenheim-Event-Overview-e1621415418228.jpeg
END:VEVENT
BEGIN:VEVENT
DTSTART;VALUE=DATE:20210530
DTEND;VALUE=DATE:20210606
DTSTAMP:20260426T011443
CREATED:20210519T123211Z
LAST-MODIFIED:20210519T123606Z
UID:725-1622332800-1622937599@occtopus.org.uk
SUMMARY:Oxford Bike Week
DESCRIPTION:Bike Week\, delivered by Cycling UK\, is an annual celebration to showcase cycling and how brilliant it is. Join thousands of people all across the UK and enjoy the simple pleasure of riding a bike. Let’s make the world better by bike.
URL:https://occtopus.org.uk/event/oxford-bike-week/
ATTACH;FMTTYPE=image/jpeg:https://occtopus.org.uk/wp-content/uploads/2021/05/Join-the-Worlds-Biggest-Bike-Ride-30-May-2021.jpeg
END:VEVENT
END:VCALENDAR